Package: DelayedMatrixStats Version: 1.20.0 Command: /Library/Frameworks/R.framework/Resources/bin/R CMD build --keep-empty-dirs --no-resave-data DelayedMatrixStats StartedAt: 2023-04-17 03:32:32 -0400 (Mon, 17 Apr 2023) EndedAt: 2023-04-17 03:36:07 -0400 (Mon, 17 Apr 2023) EllapsedTime: 215.2 seconds RetCode: 0 Status: OK PackageFile: DelayedMatrixStats_1.20.0.tar.gz PackageFileSize: 269.9 KiB