Package: DiffLogo Version: 2.22.0 Command: rm -rf DiffLogo.buildbin-libdir && mkdir DiffLogo.buildbin-libdir && /Users/biocbuild/BBS/utils/build-universal.sh DiffLogo_2.22.0.tar.gz /Library/Frameworks/R.framework/Resources/bin/R DiffLogo.buildbin-libdir StartedAt: 2023-04-18 15:15:36 -0400 (Tue, 18 Apr 2023) EndedAt: 2023-04-18 15:15:48 -0400 (Tue, 18 Apr 2023) EllapsedTime: 12.1 seconds RetCode: 0 Status: OK PackageFile: DiffLogo_2.22.0.tgz PackageFileSize: 1.054 MiB