Package: EMDomics Version: 2.28.0 Command: /Library/Frameworks/R.framework/Resources/bin/R CMD build --keep-empty-dirs --no-resave-data EMDomics StartedAt: 2023-04-17 05:07:05 -0400 (Mon, 17 Apr 2023) EndedAt: 2023-04-17 05:07:21 -0400 (Mon, 17 Apr 2023) EllapsedTime: 15.7 seconds RetCode: 0 Status: OK PackageFile: EMDomics_2.28.0.tar.gz PackageFileSize: 258.1 KiB