Package: EnrichedHeatmap Version: 1.28.1 Command: rm -rf EnrichedHeatmap.buildbin-libdir && mkdir EnrichedHeatmap.buildbin-libdir && /Users/biocbuild/BBS/utils/build-universal.sh EnrichedHeatmap_1.28.1.tar.gz /Library/Frameworks/R.framework/Resources/bin/R EnrichedHeatmap.buildbin-libdir StartedAt: 2023-04-18 15:29:16 -0400 (Tue, 18 Apr 2023) EndedAt: 2023-04-18 15:30:16 -0400 (Tue, 18 Apr 2023) EllapsedTime: 59.8 seconds RetCode: 0 Status: OK PackageFile: EnrichedHeatmap_1.28.1.tgz PackageFileSize: 10.08 MiB