Package: EnrichedHeatmap Version: 1.28.1 Command: /Library/Frameworks/R.framework/Resources/bin/R CMD build --keep-empty-dirs --no-resave-data EnrichedHeatmap StartedAt: 2023-04-17 05:18:55 -0400 (Mon, 17 Apr 2023) EndedAt: 2023-04-17 05:24:36 -0400 (Mon, 17 Apr 2023) EllapsedTime: 340.8 seconds RetCode: 0 Status: OK PackageFile: EnrichedHeatmap_1.28.1.tar.gz PackageFileSize: 11.25 MiB