Package: EnrichedHeatmap Version: 1.28.1 Command: /Library/Frameworks/R.framework/Resources/bin/R CMD INSTALL EnrichedHeatmap StartedAt: 2023-04-16 14:42:15 -0400 (Sun, 16 Apr 2023) EndedAt: 2023-04-16 14:42:52 -0400 (Sun, 16 Apr 2023) EllapsedTime: 37.4 seconds RetCode: 0 Status: OK