Package: FRGEpistasis Version: 1.34.0 Command: /Library/Frameworks/R.framework/Resources/bin/R CMD build --keep-empty-dirs --no-resave-data FRGEpistasis StartedAt: 2023-04-17 06:56:00 -0400 (Mon, 17 Apr 2023) EndedAt: 2023-04-17 06:56:16 -0400 (Mon, 17 Apr 2023) EllapsedTime: 16.3 seconds RetCode: 0 Status: OK PackageFile: FRGEpistasis_1.34.0.tar.gz PackageFileSize: 315.1 KiB