Package: GAPGOM Version: 1.14.0 Command: /Library/Frameworks/R.framework/Resources/bin/R CMD INSTALL GAPGOM StartedAt: 2023-04-16 15:56:19 -0400 (Sun, 16 Apr 2023) EndedAt: 2023-04-16 15:57:04 -0400 (Sun, 16 Apr 2023) EllapsedTime: 44.8 seconds RetCode: 0 Status: OK