Package: GBScleanR Version: 1.2.14 Command: /Library/Frameworks/R.framework/Resources/bin/R CMD build --keep-empty-dirs --no-resave-data GBScleanR StartedAt: 2023-04-17 07:05:21 -0400 (Mon, 17 Apr 2023) EndedAt: 2023-04-17 07:07:05 -0400 (Mon, 17 Apr 2023) EllapsedTime: 104.2 seconds RetCode: 0 Status: OK PackageFile: GBScleanR_1.2.14.tar.gz PackageFileSize: 1.64 MiB