Package: GBScleanR Version: 1.2.14 Command: /Library/Frameworks/R.framework/Resources/bin/R CMD INSTALL GBScleanR StartedAt: 2023-04-16 15:01:24 -0400 (Sun, 16 Apr 2023) EndedAt: 2023-04-16 15:02:55 -0400 (Sun, 16 Apr 2023) EllapsedTime: 91.1 seconds RetCode: 0 Status: OK