Package: GGPA Version: 1.10.2 Command: rm -rf GGPA.buildbin-libdir && mkdir GGPA.buildbin-libdir && /Users/biocbuild/BBS/utils/build-universal.sh GGPA_1.10.2.tar.gz /Library/Frameworks/R.framework/Resources/bin/R GGPA.buildbin-libdir StartedAt: 2023-04-18 16:09:53 -0400 (Tue, 18 Apr 2023) EndedAt: 2023-04-18 16:11:18 -0400 (Tue, 18 Apr 2023) EllapsedTime: 84.8 seconds RetCode: 0 Status: OK PackageFile: GGPA_1.10.2.tgz PackageFileSize: 2.856 MiB