Package: GGPA Version: 1.10.2 Command: /Library/Frameworks/R.framework/Resources/bin/R CMD INSTALL GGPA StartedAt: 2023-04-16 15:13:08 -0400 (Sun, 16 Apr 2023) EndedAt: 2023-04-16 15:14:03 -0400 (Sun, 16 Apr 2023) EllapsedTime: 55.0 seconds RetCode: 0 Status: OK