Package: GPA Version: 1.10.0 Command: /Library/Frameworks/R.framework/Resources/bin/R CMD build --keep-empty-dirs --no-resave-data GPA StartedAt: 2023-04-17 09:11:09 -0400 (Mon, 17 Apr 2023) EndedAt: 2023-04-17 09:13:05 -0400 (Mon, 17 Apr 2023) EllapsedTime: 115.5 seconds RetCode: 0 Status: OK PackageFile: GPA_1.10.0.tar.gz PackageFileSize: 310.5 KiB