Package: GSReg Version: 1.32.0 Command: /Library/Frameworks/R.framework/Resources/bin/R CMD build --keep-empty-dirs --no-resave-data GSReg StartedAt: 2023-04-17 09:34:15 -0400 (Mon, 17 Apr 2023) EndedAt: 2023-04-17 09:36:05 -0400 (Mon, 17 Apr 2023) EllapsedTime: 109.8 seconds RetCode: 0 Status: OK PackageFile: GSReg_1.32.0.tar.gz PackageFileSize: 466.2 KiB