Package: GSgalgoR
Version: 1.8.0
Command: /Library/Frameworks/R.framework/Resources/bin/R CMD INSTALL GSgalgoR
StartedAt: 2023-04-16 14:17:36 -0400 (Sun, 16 Apr 2023)
EndedAt: 2023-04-16 14:17:40 -0400 (Sun, 16 Apr 2023)
EllapsedTime: 4.4 seconds
RetCode: 0
Status: OK