Package: GUIDEseq Version: 1.28.0 Command: /Library/Frameworks/R.framework/Resources/bin/R CMD build --keep-empty-dirs --no-resave-data GUIDEseq StartedAt: 2023-04-17 09:38:52 -0400 (Mon, 17 Apr 2023) EndedAt: 2023-04-17 09:40:40 -0400 (Mon, 17 Apr 2023) EllapsedTime: 107.1 seconds RetCode: 0 Status: OK PackageFile: GUIDEseq_1.28.0.tar.gz PackageFileSize: 5.862 MiB