Package: GWENA Version: 1.8.0 Command: rm -rf GWENA.buildbin-libdir && mkdir GWENA.buildbin-libdir && /Users/biocbuild/BBS/utils/build-universal.sh GWENA_1.8.0.tar.gz /Library/Frameworks/R.framework/Resources/bin/R GWENA.buildbin-libdir StartedAt: 2023-04-18 16:22:06 -0400 (Tue, 18 Apr 2023) EndedAt: 2023-04-18 16:23:38 -0400 (Tue, 18 Apr 2023) EllapsedTime: 92.5 seconds RetCode: 0 Status: OK PackageFile: GWENA_1.8.0.tgz PackageFileSize: 4.571 MiB