git_url: https://git.bioconductor.org/packages/GenProSeq
git_branch: RELEASE_3_16
git_last_commit: fbdb829
git_last_commit_date: 2022-11-01 11:26:43 -0400 (Tue, 01 Nov 2022)
Package: GenProSeq
Version: 1.2.0
Maintainer: Dongmin Jung
MaintainerEmail: dmdmjung at gmail.com