Package: GenProSeq
Version: 1.2.0
Command: /Library/Frameworks/R.framework/Resources/bin/R CMD build --keep-empty-dirs --no-resave-data GenProSeq
StartedAt: 2023-04-17 07:51:56 -0400 (Mon, 17 Apr 2023)
EndedAt: 2023-04-17 07:52:15 -0400 (Mon, 17 Apr 2023)
EllapsedTime: 19.0 seconds
RetCode: 0
Status: OK
PackageFile: GenProSeq_1.2.0.tar.gz
PackageFileSize: 1.115 <A href="http://en.wikipedia.org/wiki/MiB" target="_blank">MiB</A>