Package: GenVisR Version: 1.30.0 Command: rm -rf GenVisR.buildbin-libdir && mkdir GenVisR.buildbin-libdir && /Users/biocbuild/BBS/utils/build-universal.sh GenVisR_1.30.0.tar.gz /Library/Frameworks/R.framework/Resources/bin/R GenVisR.buildbin-libdir StartedAt: 2023-04-18 16:07:17 -0400 (Tue, 18 Apr 2023) EndedAt: 2023-04-18 16:09:25 -0400 (Tue, 18 Apr 2023) EllapsedTime: 127.8 seconds RetCode: 0 Status: OK PackageFile: GenVisR_1.30.0.tgz PackageFileSize: 7.591 MiB