Package: GeneGeneInteR
Version: 1.24.0
Command: /Library/Frameworks/R.framework/Resources/bin/R CMD build --keep-empty-dirs --no-resave-data GeneGeneInteR
StartedAt: 2023-04-17 07:22:42 -0400 (Mon, 17 Apr 2023)
EndedAt: 2023-04-17 07:23:26 -0400 (Mon, 17 Apr 2023)
EllapsedTime: 43.6 seconds
RetCode: 0
Status: OK
PackageFile: GeneGeneInteR_1.24.0.tar.gz
PackageFileSize: 1.275 <A href="http://en.wikipedia.org/wiki/MiB" target="_blank">MiB</A>