Package: GeneNetworkBuilder Version: 1.40.0 Command: /Library/Frameworks/R.framework/Resources/bin/R CMD build --keep-empty-dirs --no-resave-data GeneNetworkBuilder StartedAt: 2023-04-17 07:24:07 -0400 (Mon, 17 Apr 2023) EndedAt: 2023-04-17 07:33:07 -0400 (Mon, 17 Apr 2023) EllapsedTime: 539.8 seconds RetCode: 0 Status: OK PackageFile: GeneNetworkBuilder_1.40.0.tar.gz PackageFileSize: 8.604 MiB