Package: GeneSelectMMD Version: 2.42.3 Command: /Library/Frameworks/R.framework/Resources/bin/R CMD build --keep-empty-dirs --no-resave-data GeneSelectMMD StartedAt: 2023-04-17 07:30:51 -0400 (Mon, 17 Apr 2023) EndedAt: 2023-04-17 07:31:13 -0400 (Mon, 17 Apr 2023) EllapsedTime: 21.9 seconds RetCode: 0 Status: OK PackageFile: GeneSelectMMD_2.42.3.tar.gz PackageFileSize: 455 KiB