Package: GeneSelectMMD Version: 2.42.3 Command: /Library/Frameworks/R.framework/Resources/bin/R CMD INSTALL GeneSelectMMD StartedAt: 2023-04-16 14:25:15 -0400 (Sun, 16 Apr 2023) EndedAt: 2023-04-16 14:25:38 -0400 (Sun, 16 Apr 2023) EllapsedTime: 23.4 seconds RetCode: 0 Status: OK