Package: GenomicRanges Version: 1.50.2 Command: rm -rf GenomicRanges.buildbin-libdir && mkdir GenomicRanges.buildbin-libdir && /Users/biocbuild/BBS/utils/build-universal.sh GenomicRanges_1.50.2.tar.gz /Library/Frameworks/R.framework/Resources/bin/R GenomicRanges.buildbin-libdir StartedAt: 2023-04-18 16:05:38 -0400 (Tue, 18 Apr 2023) EndedAt: 2023-04-18 16:06:49 -0400 (Tue, 18 Apr 2023) EllapsedTime: 71.0 seconds RetCode: 0 Status: OK PackageFile: GenomicRanges_1.50.2.tgz PackageFileSize: 2.25 MiB