Package: GlobalAncova Version: 4.16.0 Command: /Library/Frameworks/R.framework/Resources/bin/R CMD INSTALL GlobalAncova StartedAt: 2023-04-16 18:03:44 -0400 (Sun, 16 Apr 2023) EndedAt: 2023-04-16 18:04:34 -0400 (Sun, 16 Apr 2023) EllapsedTime: 49.9 seconds RetCode: 0 Status: OK