Package: GraphAlignment
Version: 1.62.0
Command: /Library/Frameworks/R.framework/Resources/bin/R CMD INSTALL GraphAlignment
StartedAt: 2023-04-16 14:04:42 -0400 (Sun, 16 Apr 2023)
EndedAt: 2023-04-16 14:04:49 -0400 (Sun, 16 Apr 2023)
EllapsedTime: 6.3 seconds
RetCode: 0
Status: OK