Package: Guitar Version: 2.14.0 Command: rm -rf Guitar.buildbin-libdir && mkdir Guitar.buildbin-libdir && /Users/biocbuild/BBS/utils/build-universal.sh Guitar_2.14.0.tar.gz /Library/Frameworks/R.framework/Resources/bin/R Guitar.buildbin-libdir StartedAt: 2023-04-18 16:20:13 -0400 (Tue, 18 Apr 2023) EndedAt: 2023-04-18 16:21:58 -0400 (Tue, 18 Apr 2023) EllapsedTime: 104.7 seconds RetCode: 0 Status: OK PackageFile: Guitar_2.14.0.tgz PackageFileSize: 3.785 MiB