Package: Gviz Version: 1.42.1 Command: rm -rf Gviz.buildbin-libdir && mkdir Gviz.buildbin-libdir && /Users/biocbuild/BBS/utils/build-universal.sh Gviz_1.42.1.tar.gz /Library/Frameworks/R.framework/Resources/bin/R Gviz.buildbin-libdir StartedAt: 2023-04-18 16:20:32 -0400 (Tue, 18 Apr 2023) EndedAt: 2023-04-18 16:23:28 -0400 (Tue, 18 Apr 2023) EllapsedTime: 176.2 seconds RetCode: 0 Status: OK PackageFile: Gviz_1.42.1.tgz PackageFileSize: 6.804 MiB