Package: Gviz Version: 1.42.1 Command: /Library/Frameworks/R.framework/Resources/bin/R CMD INSTALL Gviz StartedAt: 2023-04-16 17:06:18 -0400 (Sun, 16 Apr 2023) EndedAt: 2023-04-16 17:08:27 -0400 (Sun, 16 Apr 2023) EllapsedTime: 129.2 seconds RetCode: 0 Status: OK