Package: HMMcopy
Version: 1.40.0
Command: /Library/Frameworks/R.framework/Resources/bin/R CMD INSTALL HMMcopy
StartedAt: 2023-04-16 14:08:41 -0400 (Sun, 16 Apr 2023)
EndedAt: 2023-04-16 14:08:47 -0400 (Sun, 16 Apr 2023)
EllapsedTime: 6.8 seconds
RetCode: 0
Status: OK