Package: HPAanalyze Version: 1.16.0 Command: /Library/Frameworks/R.framework/Resources/bin/R CMD build --keep-empty-dirs --no-resave-data HPAanalyze StartedAt: 2023-04-17 10:31:58 -0400 (Mon, 17 Apr 2023) EndedAt: 2023-04-17 10:33:23 -0400 (Mon, 17 Apr 2023) EllapsedTime: 85.0 seconds RetCode: 0 Status: OK PackageFile: HPAanalyze_1.16.0.tar.gz PackageFileSize: 6.581 MiB