Package: Heatplus Version: 3.6.0 Command: rm -rf Heatplus.buildbin-libdir && mkdir Heatplus.buildbin-libdir && /Users/biocbuild/BBS/utils/build-universal.sh Heatplus_3.6.0.tar.gz /Library/Frameworks/R.framework/Resources/bin/R Heatplus.buildbin-libdir StartedAt: 2023-04-18 16:23:43 -0400 (Tue, 18 Apr 2023) EndedAt: 2023-04-18 16:23:53 -0400 (Tue, 18 Apr 2023) EllapsedTime: 10.1 seconds RetCode: 0 Status: OK PackageFile: Heatplus_3.6.0.tgz PackageFileSize: 1.262 MiB