Package: Heatplus Version: 3.6.0 Command: /Library/Frameworks/R.framework/Resources/bin/R CMD INSTALL Heatplus StartedAt: 2023-04-16 14:07:57 -0400 (Sun, 16 Apr 2023) EndedAt: 2023-04-16 14:08:02 -0400 (Sun, 16 Apr 2023) EllapsedTime: 4.9 seconds RetCode: 0 Status: OK