Package: HiCcompare Version: 1.20.0 Command: /Library/Frameworks/R.framework/Resources/bin/R CMD build --keep-empty-dirs --no-resave-data HiCcompare StartedAt: 2023-04-17 10:12:23 -0400 (Mon, 17 Apr 2023) EndedAt: 2023-04-17 10:13:28 -0400 (Mon, 17 Apr 2023) EllapsedTime: 64.8 seconds RetCode: 0 Status: OK PackageFile: HiCcompare_1.20.0.tar.gz PackageFileSize: 3.532 MiB