Package: IMMAN Version: 1.18.0 Command: /Library/Frameworks/R.framework/Resources/bin/R CMD INSTALL IMMAN StartedAt: 2023-04-16 15:53:42 -0400 (Sun, 16 Apr 2023) EndedAt: 2023-04-16 15:54:05 -0400 (Sun, 16 Apr 2023) EllapsedTime: 22.9 seconds RetCode: 0 Status: OK