Package: ISAnalytics Version: 1.8.1 Command: rm -rf ISAnalytics.buildbin-libdir && mkdir ISAnalytics.buildbin-libdir && /Users/biocbuild/BBS/utils/build-universal.sh ISAnalytics_1.8.1.tar.gz /Library/Frameworks/R.framework/Resources/bin/R ISAnalytics.buildbin-libdir StartedAt: 2023-04-04 15:59:01 -0400 (Tue, 04 Apr 2023) EndedAt: 2023-04-04 16:00:03 -0400 (Tue, 04 Apr 2023) EllapsedTime: 62.0 seconds RetCode: 0 Status: OK PackageFile: ISAnalytics_1.8.1.tgz PackageFileSize: 5.182 MiB