Package: ISAnalytics Version: 1.8.3 Command: /Library/Frameworks/R.framework/Resources/bin/R CMD build --keep-empty-dirs --no-resave-data ISAnalytics StartedAt: 2023-04-17 11:43:06 -0400 (Mon, 17 Apr 2023) EndedAt: 2023-04-17 11:45:06 -0400 (Mon, 17 Apr 2023) EllapsedTime: 119.6 seconds RetCode: 1 Status: ERROR PackageFile: None PackageFileSize: NA