Package: ITALICS Version: 2.58.0 Command: /Library/Frameworks/R.framework/Resources/bin/R CMD build --keep-empty-dirs --no-resave-data ITALICS StartedAt: 2023-04-17 12:01:41 -0400 (Mon, 17 Apr 2023) EndedAt: 2023-04-17 12:02:46 -0400 (Mon, 17 Apr 2023) EllapsedTime: 65.2 seconds RetCode: 0 Status: OK PackageFile: ITALICS_2.58.0.tar.gz PackageFileSize: 614.3 KiB