Package: IdeoViz Version: 1.34.0 Command: /Library/Frameworks/R.framework/Resources/bin/R CMD INSTALL IdeoViz StartedAt: 2023-04-16 16:35:31 -0400 (Sun, 16 Apr 2023) EndedAt: 2023-04-16 16:36:21 -0400 (Sun, 16 Apr 2023) EllapsedTime: 50.0 seconds RetCode: 0 Status: OK