Package: InterCellar Version: 2.4.0 Command: /Library/Frameworks/R.framework/Resources/bin/R CMD INSTALL InterCellar StartedAt: 2023-04-16 18:42:03 -0400 (Sun, 16 Apr 2023) EndedAt: 2023-04-16 18:42:43 -0400 (Sun, 16 Apr 2023) EllapsedTime: 39.8 seconds RetCode: 0 Status: OK