Package: KEGGlincs
Version: 1.24.0
Command: /Library/Frameworks/R.framework/Resources/bin/R CMD INSTALL KEGGlincs
StartedAt: 2023-04-16 15:51:35 -0400 (Sun, 16 Apr 2023)
EndedAt: 2023-04-16 15:52:08 -0400 (Sun, 16 Apr 2023)
EllapsedTime: 32.3 seconds
RetCode: 0
Status: OK