Package: LEA Version: 3.10.2 Command: rm -rf LEA.buildbin-libdir && mkdir LEA.buildbin-libdir && /Users/biocbuild/BBS/utils/build-universal.sh LEA_3.10.2.tar.gz /Library/Frameworks/R.framework/Resources/bin/R LEA.buildbin-libdir StartedAt: 2023-04-18 16:47:10 -0400 (Tue, 18 Apr 2023) EndedAt: 2023-04-18 16:48:05 -0400 (Tue, 18 Apr 2023) EllapsedTime: 54.5 seconds RetCode: 0 Status: OK PackageFile: LEA_3.10.2.tgz PackageFileSize: 866.9 KiB