Package: LEA Version: 3.10.2 Command: /Library/Frameworks/R.framework/Resources/bin/R CMD build --keep-empty-dirs --no-resave-data LEA StartedAt: 2023-04-17 12:18:56 -0400 (Mon, 17 Apr 2023) EndedAt: 2023-04-17 12:21:07 -0400 (Mon, 17 Apr 2023) EllapsedTime: 131.1 seconds RetCode: 0 Status: OK PackageFile: LEA_3.10.2.tar.gz PackageFileSize: 675.7 KiB