Package: MACSr Version: 1.6.0 Command: /Library/Frameworks/R.framework/Resources/bin/R CMD build --keep-empty-dirs --no-resave-data MACSr StartedAt: 2023-04-17 12:45:26 -0400 (Mon, 17 Apr 2023) EndedAt: 2023-04-17 12:46:19 -0400 (Mon, 17 Apr 2023) EllapsedTime: 52.5 seconds RetCode: 0 Status: OK PackageFile: MACSr_1.6.0.tar.gz PackageFileSize: 852.3 KiB