Package: MBCB Version: 1.52.0 Command: rm -rf MBCB.buildbin-libdir && mkdir MBCB.buildbin-libdir && /Users/biocbuild/BBS/utils/build-universal.sh MBCB_1.52.0.tar.gz /Library/Frameworks/R.framework/Resources/bin/R MBCB.buildbin-libdir StartedAt: 2023-04-18 16:59:32 -0400 (Tue, 18 Apr 2023) EndedAt: 2023-04-18 16:59:56 -0400 (Tue, 18 Apr 2023) EllapsedTime: 23.9 seconds RetCode: 0 Status: OK PackageFile: MBCB_1.52.0.tgz PackageFileSize: 467.4 KiB