Package: MEDME
Version: 1.58.0
Command: /Library/Frameworks/R.framework/Resources/bin/R CMD build --keep-empty-dirs --no-resave-data MEDME
StartedAt: 2023-04-17 13:28:16 -0400 (Mon, 17 Apr 2023)
EndedAt: 2023-04-17 13:29:05 -0400 (Mon, 17 Apr 2023)
EllapsedTime: 49.4 seconds
RetCode: 0
Status: OK
PackageFile: MEDME_1.58.0.tar.gz
PackageFileSize: 447.5 <A href="http://en.wikipedia.org/wiki/KiB" target="_blank">KiB</A>