Package: MGFR
Version: 1.24.0
Command: rm -rf MGFR.buildbin-libdir && mkdir MGFR.buildbin-libdir && /Users/biocbuild/BBS/utils/build-universal.sh MGFR_1.24.0.tar.gz /Library/Frameworks/R.framework/Resources/bin/R MGFR.buildbin-libdir
StartedAt: 2023-04-18 17:16:31 -0400 (Tue, 18 Apr 2023)
EndedAt: 2023-04-18 17:17:12 -0400 (Tue, 18 Apr 2023)
EllapsedTime: 41.5 seconds
RetCode: 0
Status: OK
PackageFile: MGFR_1.24.0.tgz
PackageFileSize: 2.66 <A href="http://en.wikipedia.org/wiki/MiB" target="_blank">MiB</A>