Package: MLInterfaces Version: 1.78.0 Command: /Library/Frameworks/R.framework/Resources/bin/R CMD build --keep-empty-dirs --no-resave-data MLInterfaces StartedAt: 2023-04-17 16:00:34 -0400 (Mon, 17 Apr 2023) EndedAt: 2023-04-17 16:02:27 -0400 (Mon, 17 Apr 2023) EllapsedTime: 112.7 seconds RetCode: 0 Status: OK PackageFile: MLInterfaces_1.78.0.tar.gz PackageFileSize: 1.839 MiB