Package: MODA Version: 1.24.0 Command: /Library/Frameworks/R.framework/Resources/bin/R CMD INSTALL MODA StartedAt: 2023-04-16 17:30:34 -0400 (Sun, 16 Apr 2023) EndedAt: 2023-04-16 17:31:11 -0400 (Sun, 16 Apr 2023) EllapsedTime: 36.8 seconds RetCode: 0 Status: OK